BEGIN:VCALENDAR
VERSION:2.0
PRODID:spatie/icalendar-generator
DESCRIPTION:Veranstaltungen von Hundefreunde Biebergemünd
X-WR-CALDESC:Veranstaltungen von Hundefreunde Biebergemünd
REFRESH-INTERVAL;VALUE=DURATION:PT1440M
X-PUBLISHED-TTL:PT1440M
BEGIN:VTIMEZONE
TZID:Europe/Berlin
BEGIN:STANDARD
DTSTART:20251026T030000Z
TZOFFSETFROM:+0200
TZOFFSETTO:+0100
END:STANDARD
BEGIN:DAYLIGHT
DTSTART:20260329T020000Z
TZOFFSETFROM:+0100
TZOFFSETTO:+0200
END:DAYLIGHT
END:VTIMEZONE
BEGIN:VTIMEZONE
TZID:UTC
BEGIN:STANDARD
DTSTART:20250723T200512Z
TZOFFSETFROM:+0000
TZOFFSETTO:+0000
END:STANDARD
END:VTIMEZONE
BEGIN:VEVENT
UID:1077-3
DTSTAMP:20260419T200512Z
SUMMARY:Agility - Gruppe 2
LOCATION:
ORGANIZER;CN=p.reschke:MAILTO:p.reschke99@gmail.com
RRULE:FREQ=WEEKLY;UNTIL=20270101T000000Z
DTSTART;TZID=Europe/Berlin:20260330T194500
DTEND;TZID=Europe/Berlin:20260330T203000
X-ALT-DESC;FMTTYPE=TEXT/HTML:Veranstalter: Isra Ait Mokhtar Bei Interesse o
 der Fragen zu unseren Kursen freuen wir uns über eine Nachricht per E-Mai
 l oder über unser Kontaktformular.
CATEGORIES:Agility „Just for Fun“
URL;VALUE=URI:https://hundefreunde-biebergemuend.de/mc-events/agility-grupp
 e-2/?mc_id=1077
END:VEVENT
END:VCALENDAR